BEGIN:VCALENDAR
VERSION:2.0
PRODID:-//Contratero//ES
CALSCALE:GREGORIAN
METHOD:PUBLISH
BEGIN:VEVENT
UID:T-SER 20.16/092025@contratero.es
DTSTAMP:20260423T152940Z
DTSTART:20251215T235959
DTEND:20251216T005959
SUMMARY:Cierre: Constituye el objeto del contrato la prestación de
DESCRIPTION:Constituye el objeto del contrato la prestación del servicio de Soporte Técnico\, del software de base Cegid PeopleNet Sector Público® (Nómina y Recursos Humanos).\\n\\nOrganismo: Gerencia de Transportes Interurbanos de Tenerife S.A.U.\\n\\nVer en Contratero: https://contratero.es/contracts/T-SER 20.16/092025
URL:https://contratero.es/contracts/T-SER 20.16/092025
STATUS:CONFIRMED
BEGIN:VALARM
TRIGGER:-P1D
ACTION:DISPLAY
DESCRIPTION:Recordatorio: Constituye el objeto del contr
END:VALARM
END:VEVENT
END:VCALENDAR